BEGIN:VCALENDAR
PRODID:-//PUBBLE//enter agenda//NL
VERSION:2.0
METHOD:PUBLISH
BEGIN:VEVENT
DTSTART:20260102T113600Z
DTEND:20260228T113600Z
DTSTAMP:20260424T125126Z
UID:b49bfccd-312e-4df7-9475-aad943ff7e3c
CREATED:20260424T125126Z
URL:https://www.weespfoto.nl/agenda/item/368487
NAME:Lotgenoten contact. weespfoto.nl
X-WR-CALNAME:Lotgenoten contact. weespfoto.nl
X-ALT-DESC;FMTTYPE=text/html:<a href='https://www.weespfoto.nl/agenda/item//368487'>https://weespfoto.nl/agenda/item//368487</a> || <p>Voor mannen met kanker zoals in het verleden mogelijk was bij Viore in Hilversum. Sta sterker door met elkaar te praten over je problemen al dan niet met de kanker. Iedere eerste en derde vrijdag van de maand vanaf 14.30 tot ca 17.00 u.</p>
DESCRIPTION:<a href='https://www.weespfoto.nl/agenda/item//368487'>https://www.weespfoto.nl/agenda/item//368487</a> || Voor mannen met kanker zoals in het verleden mogelijk was bij Viore in Hilversum. Sta sterker door met elkaar te praten over je problemen al dan niet met de kanker. Iedere eerste en derde vrijdag van de maand vanaf 14.30 tot ca 17.00 u.
LAST-MODIFIED:20260424T125126Z
LOCATION:    
SEQUENCE:0
STATUS:CONFIRMED
SUMMARY:Lotgenoten contact.
TRANSP:OPAQUE
END:VEVENT
END:VCALENDAR
