BEGIN:VCALENDAR
PRODID:-//PUBBLE//enter agenda//NL
VERSION:2.0
METHOD:PUBLISH
BEGIN:VEVENT
DTSTART:20260308T063000Z
DTEND:20260308T110000Z
DTSTAMP:20260424T182952Z
UID:991d7a47-5efb-4bb2-9fa1-568db0033570
CREATED:20260424T182952Z
URL:https://www.weespfoto.nl/agenda/item/368568
NAME:Groepswandeling Groeneveld weespfoto.nl
X-WR-CALNAME:Groepswandeling Groeneveld weespfoto.nl
X-ALT-DESC;FMTTYPE=text/html:<a href='https://www.weespfoto.nl/agenda/item//368568'>https://weespfoto.nl/agenda/item//368568</a> || <p><strong>D</strong><strong>e groepswandeling op zondag 8 maart gaat &nbsp;via de Zuiderheide en de Hooge Vuursche naar Groeneveld en dan naar de koffierust in Boerderij de Huydecoper op de Amerpoort. Na de rust voert de tocht via Anna’s Hoeve, het Laarder Wasmeer en door de Kuil van Koppel terug naar Laren. De afstand is 20 km.&nbsp;</strong></p>
DESCRIPTION:<a href='https://www.weespfoto.nl/agenda/item//368568'>https://www.weespfoto.nl/agenda/item//368568</a> || De groepswandeling op zondag 8 maart gaat  via de Zuiderheide en de Hooge Vuursche naar Groeneveld en dan naar de koffierust in Boerderij de Huydecoper op de Amerpoort. Na de rust voert de tocht via Anna’s Hoeve, het Laarder Wasmeer en door de Kuil van Koppel terug naar Laren. De afstand is 20 km. 
LAST-MODIFIED:20260424T182952Z
LOCATION:SV Laren'99 Schuilkerkpad 2 1251sc Laren
SEQUENCE:0
STATUS:CONFIRMED
SUMMARY:Groepswandeling Groeneveld
TRANSP:OPAQUE
END:VEVENT
END:VCALENDAR
