BEGIN:VCALENDAR
PRODID:-//PUBBLE//enter agenda//NL
VERSION:2.0
METHOD:PUBLISH
BEGIN:VEVENT
DTSTART:20260308T113000Z
DTEND:20260308T131500Z
DTSTAMP:20260425T033827Z
UID:ed84a179-4efa-44d8-a4ba-4df8e9e9a6f2
CREATED:20260425T033827Z
URL:https://www.weespfoto.nl/agenda/item/368588
NAME:A.Broussard: Another World weespfoto.nl
X-WR-CALNAME:A.Broussard: Another World weespfoto.nl
X-ALT-DESC;FMTTYPE=text/html:<a href='https://www.weespfoto.nl/agenda/item//368588'>https://weespfoto.nl/agenda/item//368588</a> || <p>Joe Jackson’s oeuvre is een fascinerende reis door verschillende muziekstijlen. Een muzikale ontdekkingsreis neemt je mee naar onverwachte plaatsen. Laat je verrassen door de veelzijdigheid van Joe Jackson’s muziek en de passie waarmee Alexander Broussard deze tot leven brengt! Res.: theaterkk@gmail</p>
DESCRIPTION:<a href='https://www.weespfoto.nl/agenda/item//368588'>https://www.weespfoto.nl/agenda/item//368588</a> || Joe Jackson’s oeuvre is een fascinerende reis door verschillende muziekstijlen. Een muzikale ontdekkingsreis neemt je mee naar onverwachte plaatsen. Laat je verrassen door de veelzijdigheid van Joe Jackson’s muziek en de passie waarmee Alexander Broussard deze tot leven brengt! Res.: theaterkk@gmail
LAST-MODIFIED:20260425T033827Z
LOCATION:Theater Kleintje Kunst Kolhornseweg 9 1213RS Hilversum
SEQUENCE:0
STATUS:CONFIRMED
SUMMARY:A.Broussard: Another World
TRANSP:OPAQUE
END:VEVENT
END:VCALENDAR
