BEGIN:VCALENDAR
PRODID:-//PUBBLE//enter agenda//NL
VERSION:2.0
METHOD:PUBLISH
BEGIN:VEVENT
DTSTART:20260306T160000Z
DTEND:20260306T171000Z
DTSTAMP:20260424T051132Z
UID:25107616-15e5-4c57-844b-45750c566194
CREATED:20260424T051132Z
URL:https://www.weespfoto.nl/agenda/item/368877
NAME:Duo Harp & Fortepiano weespfoto.nl
X-WR-CALNAME:Duo Harp & Fortepiano weespfoto.nl
X-ALT-DESC;FMTTYPE=text/html:<a href='https://www.weespfoto.nl/agenda/item//368877'>https://weespfoto.nl/agenda/item//368877</a> || <p>Onder de titel Wabi-sabi brengen harpiste Maria Christina Cleary en fortepianiste Kaoru Iwamura Mozarts beroemde sonate voor twee piano’s tot leven op historische instrumenten: Een harpe organisée - een zeldzame vroege pedaalharp van circa twee eeuwen oud - en een authentieke fortepiano.&nbsp;</p>
DESCRIPTION:<a href='https://www.weespfoto.nl/agenda/item//368877'>https://www.weespfoto.nl/agenda/item//368877</a> || Onder de titel Wabi-sabi brengen harpiste Maria Christina Cleary en fortepianiste Kaoru Iwamura Mozarts beroemde sonate voor twee piano’s tot leven op historische instrumenten: Een harpe organisée - een zeldzame vroege pedaalharp van circa twee eeuwen oud - en een authentieke fortepiano. 
LAST-MODIFIED:20260424T051132Z
LOCATION:Muziekcentrum van de Omroep (MCO) Heuvellaan 33 1217jl Hilversum
SEQUENCE:0
STATUS:CONFIRMED
SUMMARY:Duo Harp & Fortepiano
TRANSP:OPAQUE
END:VEVENT
END:VCALENDAR
