BEGIN:VCALENDAR
PRODID:-//PUBBLE//enter agenda//NL
VERSION:2.0
METHOD:PUBLISH
BEGIN:VEVENT
DTSTART:20260306T120000Z
DTEND:20260306T133000Z
DTSTAMP:20260424T004658Z
UID:2370d399-93cc-4e08-a205-b0a11a2e32e6
CREATED:20260424T004658Z
URL:https://www.weespfoto.nl/agenda/item/368956
NAME:BiebLab Muiden weespfoto.nl
X-WR-CALNAME:BiebLab Muiden weespfoto.nl
X-ALT-DESC;FMTTYPE=text/html:<a href='https://www.weespfoto.nl/agenda/item//368956'>https://weespfoto.nl/agenda/item//368956</a> || <p>Spannende proefjes! Ga zelf aan de slag met scheikundige en natuurkundige experimenten. Ontdek de wetenschapper in jezelf. Reserveren: bieblab@bibliotheekgooiplus.nl</p>
DESCRIPTION:<a href='https://www.weespfoto.nl/agenda/item//368956'>https://www.weespfoto.nl/agenda/item//368956</a> || Spannende proefjes! Ga zelf aan de slag met scheikundige en natuurkundige experimenten. Ontdek de wetenschapper in jezelf. Reserveren: bieblab@bibliotheekgooiplus.nl
LAST-MODIFIED:20260424T004658Z
LOCATION:Bibliotheek Gooi + Muiden Kazernestraat 10 1398an Muiden
SEQUENCE:0
STATUS:CONFIRMED
SUMMARY:BiebLab Muiden
TRANSP:OPAQUE
END:VEVENT
END:VCALENDAR
