BEGIN:VCALENDAR
PRODID:-//PUBBLE//enter agenda//NL
VERSION:2.0
METHOD:PUBLISH
BEGIN:VEVENT
DTSTART:20260308T100000Z
DTEND:20260308T130000Z
DTSTAMP:20260425T003010Z
UID:a9dd8c12-9313-4437-b58a-18c61bf64e54
CREATED:20260425T003010Z
URL:https://www.weespfoto.nl/agenda/item/369103
NAME:Internationale Vrouwen Dag weespfoto.nl
X-WR-CALNAME:Internationale Vrouwen Dag weespfoto.nl
X-ALT-DESC;FMTTYPE=text/html:<a href='https://www.weespfoto.nl/agenda/item//369103'>https://weespfoto.nl/agenda/item//369103</a> || <p>Op zondagmiddag 8 maart vieren we samen Internationale vrouwendag in Brinkhuis Laren. Een inspirerend en interactief evenement over de kracht van de stem van de vrouw, toen en nu, lokaal en wereldwijd. In een tijd waarin vrouwenrechten onder druk staan, is spreken geen vanzelfsprekendheid. Doe mee!</p>
DESCRIPTION:<a href='https://www.weespfoto.nl/agenda/item//369103'>https://www.weespfoto.nl/agenda/item//369103</a> || Op zondagmiddag 8 maart vieren we samen Internationale vrouwendag in Brinkhuis Laren. Een inspirerend en interactief evenement over de kracht van de stem van de vrouw, toen en nu, lokaal en wereldwijd. In een tijd waarin vrouwenrechten onder druk staan, is spreken geen vanzelfsprekendheid. Doe mee!
LAST-MODIFIED:20260425T003010Z
LOCATION:Brinkhuis Brink 29 1251kt Laren
SEQUENCE:0
STATUS:CONFIRMED
SUMMARY:Internationale Vrouwen Dag
TRANSP:OPAQUE
END:VEVENT
END:VCALENDAR
