BEGIN:VCALENDAR
PRODID:-//PUBBLE//enter agenda//NL
VERSION:2.0
METHOD:PUBLISH
BEGIN:VEVENT
DTSTART:20260306T163000Z
DTEND:20260306T193000Z
DTSTAMP:20260424T064009Z
UID:236cf35b-98ec-45cf-9387-26ddd8e119ab
CREATED:20260424T064009Z
URL:https://www.weespfoto.nl/agenda/item/369231
NAME:Open Podium Bussum Zuid weespfoto.nl
X-WR-CALNAME:Open Podium Bussum Zuid weespfoto.nl
X-ALT-DESC;FMTTYPE=text/html:<a href='https://www.weespfoto.nl/agenda/item//369231'>https://weespfoto.nl/agenda/item//369231</a> || <p>Ontmoetingscentrum SOOV zorgt er op 6 mrt a.s.in samenwerking met DYNAMIC ARTS voor dat iedereen die dat wil een spotlight krijgt!&nbsp;</p><p>Zang, dans, muziek, gedichten, Spoken Word...jong en oud vinden elkaar door expressieve kunst op een Open Podium. Meld je aan via <a href="mailto:soov@vivium.nl">soov@vivium.nl</a>&nbsp;en ontvang meer info.</p>
DESCRIPTION:<a href='https://www.weespfoto.nl/agenda/item//369231'>https://www.weespfoto.nl/agenda/item//369231</a> || Ontmoetingscentrum SOOV zorgt er op 6 mrt a.s.in samenwerking met DYNAMIC ARTS voor dat iedereen die dat wil een spotlight krijgt! Zang, dans, muziek, gedichten, Spoken Word...jong en oud vinden elkaar door expressieve kunst op een Open Podium. Meld je aan via soov@vivium.nl en ontvang meer info.
LAST-MODIFIED:20260424T064009Z
LOCATION:Ontmoetingscentrum 'De Sloep' Brinklaan 41 1404ex Bussum
SEQUENCE:0
STATUS:CONFIRMED
SUMMARY:Open Podium Bussum Zuid
TRANSP:OPAQUE
END:VEVENT
END:VCALENDAR
