BEGIN:VCALENDAR
PRODID:-//PUBBLE//enter agenda//NL
VERSION:2.0
METHOD:PUBLISH
BEGIN:VEVENT
DTSTART:20260307T064500Z
DTEND:20260307T081500Z
DTSTAMP:20260424T124455Z
UID:73ab4ae1-c7c0-43da-8980-af7d7cc60b33
CREATED:20260424T124455Z
URL:https://www.weespfoto.nl/agenda/item/369263
NAME:Meditatie workshop weespfoto.nl
X-WR-CALNAME:Meditatie workshop weespfoto.nl
X-ALT-DESC;FMTTYPE=text/html:<a href='https://www.weespfoto.nl/agenda/item//369263'>https://weespfoto.nl/agenda/item//369263</a> || <p>Meditatie kan ontspanning, energie, onbezorgdheid, plezier geven. We mediteren zittend, bewegend en visualiserend. Zijnsgeörienteerde meditatie. Deze les is los te volgen en nabij Station Weesp. Info: Henriette Andersen. Meer informatie en aanmelding: www.vrijzingen.nl/meditatie, of bel 06-30703071 </p>
DESCRIPTION:<a href='https://www.weespfoto.nl/agenda/item//369263'>https://www.weespfoto.nl/agenda/item//369263</a> || Meditatie kan ontspanning, energie, onbezorgdheid, plezier geven. We mediteren zittend, bewegend en visualiserend. Zijnsgeörienteerde meditatie. Deze les is los te volgen en nabij Station Weesp. Info: Henriette Andersen. Meer informatie en aanmelding: www.vrijzingen.nl/meditatie, of bel 06-30703071 
LAST-MODIFIED:20260424T124455Z
LOCATION:Buurtkamer Weespersluis Fort Diemerdamstraat  71a 1384ah Weesp
SEQUENCE:0
STATUS:CONFIRMED
SUMMARY:Meditatie workshop
TRANSP:OPAQUE
END:VEVENT
END:VCALENDAR
