BEGIN:VCALENDAR
PRODID:-//PUBBLE//enter agenda//NL
VERSION:2.0
METHOD:PUBLISH
BEGIN:VEVENT
DTSTART:20260311T090300Z
DTEND:20260408T080300Z
DTSTAMP:20260424T013248Z
UID:4931c431-aa0b-4ef2-bb67-2e2680b3ff80
CREATED:20260424T013248Z
URL:https://www.weespfoto.nl/agenda/item/369326
NAME:Klik en Tik weespfoto.nl
X-WR-CALNAME:Klik en Tik weespfoto.nl
X-ALT-DESC;FMTTYPE=text/html:<a href='https://www.weespfoto.nl/agenda/item//369326'>https://weespfoto.nl/agenda/item//369326</a> || <p>In de cursus Klik &amp; Tik leer je stap voor stap typen, internet gebruiken en e-mailen. Tijdens de cursus werk je op een computer in de bibliotheek.</p><p>Je hoeft niets mee te nemen. Alles wat je nodig hebt, is er. Aanmelden: <a href="mailto:computercursus@oba.nl">computercursus@oba.nl</a> of bel 020-5230900&nbsp;</p>
DESCRIPTION:<a href='https://www.weespfoto.nl/agenda/item//369326'>https://www.weespfoto.nl/agenda/item//369326</a> || In de cursus Klik & Tik leer je stap voor stap typen, internet gebruiken en e-mailen. Tijdens de cursus werk je op een computer in de bibliotheek.Je hoeft niets mee te nemen. Alles wat je nodig hebt, is er. Aanmelden: computercursus@oba.nl of bel 020-5230900 
LAST-MODIFIED:20260424T013248Z
LOCATION:OBA Diemen Wilhelminaplantsoen 126 1111cp Diemen
SEQUENCE:0
STATUS:CONFIRMED
SUMMARY:Klik en Tik
TRANSP:OPAQUE
END:VEVENT
END:VCALENDAR
