BEGIN:VCALENDAR
PRODID:-//PUBBLE//enter agenda//NL
VERSION:2.0
METHOD:PUBLISH
BEGIN:VEVENT
DTSTART:20260305T170000Z
DTEND:20260305T200000Z
DTSTAMP:20260424T001958Z
UID:7a4ac433-e9a7-4611-8ea9-fa034ba215b1
CREATED:20260424T001958Z
URL:https://www.weespfoto.nl/agenda/item/369399
NAME:Mr Nobody against Putin weespfoto.nl
X-WR-CALNAME:Mr Nobody against Putin weespfoto.nl
X-ALT-DESC;FMTTYPE=text/html:<a href='https://www.weespfoto.nl/agenda/item//369399'>https://weespfoto.nl/agenda/item//369399</a> || <p>Wanneer Rusland Oekraïne binnenvalt, verandert de school van Pavel ‘Pasha’ Talankin in een toneel van staatspropaganda. Wanneer Rusland Oekraïne binnenvalt, verandert zijn school in een toneel van staatspropaganda. Als schoolvideograaf krijgt Pasha de opdracht om alles vast te leggen. </p>
DESCRIPTION:<a href='https://www.weespfoto.nl/agenda/item//369399'>https://www.weespfoto.nl/agenda/item//369399</a> || Wanneer Rusland Oekraïne binnenvalt, verandert de school van Pavel ‘Pasha’ Talankin in een toneel van staatspropaganda. Wanneer Rusland Oekraïne binnenvalt, verandert zijn school in een toneel van staatspropaganda. Als schoolvideograaf krijgt Pasha de opdracht om alles vast te leggen. 
LAST-MODIFIED:20260424T001958Z
LOCATION:City of Wesopa Herengracht 23 Herengracht 23 1382ag Weesp
SEQUENCE:0
STATUS:CONFIRMED
SUMMARY:Mr Nobody against Putin
TRANSP:OPAQUE
END:VEVENT
END:VCALENDAR
