BEGIN:VCALENDAR
PRODID:-//PUBBLE//enter agenda//NL
VERSION:2.0
METHOD:PUBLISH
BEGIN:VEVENT
DTSTART:20260306T173000Z
DTEND:20260306T200000Z
DTSTAMP:20260424T093216Z
UID:a83cb216-4a17-4fc1-b850-a1596cd12ce0
CREATED:20260424T093216Z
URL:https://www.weespfoto.nl/agenda/item/369400
NAME:Abdelkader Benali en Daria weespfoto.nl
X-WR-CALNAME:Abdelkader Benali en Daria weespfoto.nl
X-ALT-DESC;FMTTYPE=text/html:<a href='https://www.weespfoto.nl/agenda/item//369400'>https://weespfoto.nl/agenda/item//369400</a> || <p>De wereld van Ali &amp; Nino is een muzikale vertelling van schrijver Abdelkader Benali en pianist Daria van den Bercken waarin de bestseller van Kurban Said over de islamitische Ali en de christelijke Nino naar het podium wordt gebracht. Dit alles tegen de achterond van de eerste Wereledoorlog.</p>
DESCRIPTION:<a href='https://www.weespfoto.nl/agenda/item//369400'>https://www.weespfoto.nl/agenda/item//369400</a> || De wereld van Ali & Nino is een muzikale vertelling van schrijver Abdelkader Benali en pianist Daria van den Bercken waarin de bestseller van Kurban Said over de islamitische Ali en de christelijke Nino naar het podium wordt gebracht. Dit alles tegen de achterond van de eerste Wereledoorlog.
LAST-MODIFIED:20260424T093216Z
LOCATION:City of Wesopa Herengracht 23 Herengracht 23 1382ag Weesp
SEQUENCE:0
STATUS:CONFIRMED
SUMMARY:Abdelkader Benali en Daria
TRANSP:OPAQUE
END:VEVENT
END:VCALENDAR
