BEGIN:VCALENDAR
PRODID:-//PUBBLE//enter agenda//NL
VERSION:2.0
METHOD:PUBLISH
BEGIN:VEVENT
DTSTART:20260308T080000Z
DTEND:20260308T093000Z
DTSTAMP:20260424T195451Z
UID:1eaf8940-d40d-4bbc-90fa-18b0b8e319b5
CREATED:20260424T195451Z
URL:https://www.weespfoto.nl/agenda/item/369402
NAME:Roodkapje (4+) weespfoto.nl
X-WR-CALNAME:Roodkapje (4+) weespfoto.nl
X-ALT-DESC;FMTTYPE=text/html:<a href='https://www.weespfoto.nl/agenda/item//369402'>https://weespfoto.nl/agenda/item//369402</a> || <p>Na 388 jaar is Roodkapje het beu! Altijd hetzelfde verhaal. Ze besluit het helemaal anders te doen; ze kiest een ander pad, tot groot verdriet van de Wolf. Ze zwerft door het bos en komt allemaal vreemde, voor haar onbekende sprookjesfiguren tegen. Gaande weg komt ze erachter dat ze de wolf mist.</p>
DESCRIPTION:<a href='https://www.weespfoto.nl/agenda/item//369402'>https://www.weespfoto.nl/agenda/item//369402</a> || Na 388 jaar is Roodkapje het beu! Altijd hetzelfde verhaal. Ze besluit het helemaal anders te doen; ze kiest een ander pad, tot groot verdriet van de Wolf. Ze zwerft door het bos en komt allemaal vreemde, voor haar onbekende sprookjesfiguren tegen. Gaande weg komt ze erachter dat ze de wolf mist.
LAST-MODIFIED:20260424T195451Z
LOCATION:City of Wesopa Herengracht 23 Herengracht 23 1382ag Weesp
SEQUENCE:0
STATUS:CONFIRMED
SUMMARY:Roodkapje (4+)
TRANSP:OPAQUE
END:VEVENT
END:VCALENDAR
