BEGIN:VCALENDAR
PRODID:-//PUBBLE//enter agenda//NL
VERSION:2.0
METHOD:PUBLISH
BEGIN:VEVENT
DTSTART:20260401T040000Z
DTEND:20261202T080000Z
DTSTAMP:20260424T053348Z
UID:4055654e-ec54-4259-8d85-96742ab59196
CREATED:20260424T053348Z
URL:https://www.weespfoto.nl/agenda/item/369446
NAME:Ombudsteam weespfoto.nl
X-WR-CALNAME:Ombudsteam weespfoto.nl
X-ALT-DESC;FMTTYPE=text/html:<a href='https://www.weespfoto.nl/agenda/item//369446'>https://weespfoto.nl/agenda/item//369446</a> || <p>Ben je op zoek naar hulp? Heb je een vraag over zorg? Een probleem met de gemeente? Het ombudsteam helpt bij individuele problemen. Je bent welkom om langs te komen. Er zijn geen kosten aan verbonden.</p>
DESCRIPTION:<a href='https://www.weespfoto.nl/agenda/item//369446'>https://www.weespfoto.nl/agenda/item//369446</a> || Ben je op zoek naar hulp? Heb je een vraag over zorg? Een probleem met de gemeente? Het ombudsteam helpt bij individuele problemen. Je bent welkom om langs te komen. Er zijn geen kosten aan verbonden.
LAST-MODIFIED:20260424T053348Z
LOCATION:Haven 5 Havenstraat 5 1271AB Huizen
SEQUENCE:0
STATUS:CONFIRMED
SUMMARY:Ombudsteam
TRANSP:OPAQUE
END:VEVENT
END:VCALENDAR
