BEGIN:VCALENDAR
PRODID:-//PUBBLE//enter agenda//NL
VERSION:2.0
METHOD:PUBLISH
BEGIN:VEVENT
DTSTART:20260304T170000Z
DTEND:20260304T190000Z
DTSTAMP:20260424T124659Z
UID:fb887327-931c-4818-af1e-6d16d7a2d29b
CREATED:20260424T124659Z
URL:https://www.weespfoto.nl/agenda/item/369494
NAME:Vastlopers en droogkokers weespfoto.nl
X-WR-CALNAME:Vastlopers en droogkokers weespfoto.nl
X-ALT-DESC;FMTTYPE=text/html:<a href='https://www.weespfoto.nl/agenda/item//369494'>https://weespfoto.nl/agenda/item//369494</a> || <p>Een onvindbare voorouder? Tijdens deze bijzondere lezing van de NGV-afdeling Gooiland kun je je vraag aan Harmen Snel (Verborgen Verleden) stellen. </p><p>Kijk op <a href="//www.ngv-afdelingen.nl/goi/agenda">www.ngv-afdelingen.nl/goi/agenda</a> voor de spelregels. Hij kan je misschien verder op weg helpen. Meer informatie bij <a href="mailto:secretaris-goi@ngv.nl">secretaris-goi@ngv.nl</a>.</p>
DESCRIPTION:<a href='https://www.weespfoto.nl/agenda/item//369494'>https://www.weespfoto.nl/agenda/item//369494</a> || Een onvindbare voorouder? Tijdens deze bijzondere lezing van de NGV-afdeling Gooiland kun je je vraag aan Harmen Snel (Verborgen Verleden) stellen. Kijk op www.ngv-afdelingen.nl/goi/agenda voor de spelregels. Hij kan je misschien verder op weg helpen. Meer informatie bij secretaris-goi@ngv.nl.
LAST-MODIFIED:20260424T124659Z
LOCATION:Bethlehemkerk Loosdrechtseweg 263 1215JV Hilversum
SEQUENCE:0
STATUS:CONFIRMED
SUMMARY:Vastlopers en droogkokers
TRANSP:OPAQUE
END:VEVENT
END:VCALENDAR
