BEGIN:VCALENDAR
PRODID:-//PUBBLE//enter agenda//NL
VERSION:2.0
METHOD:PUBLISH
BEGIN:VEVENT
DTSTART:20260304T163000Z
DTEND:20260304T183000Z
DTSTAMP:20260424T112441Z
UID:2ee96add-aaf3-405f-b199-0899c21a07ea
CREATED:20260424T112441Z
URL:https://www.weespfoto.nl/agenda/item/369556
NAME:Doe mee mee Kies2026 weespfoto.nl
X-WR-CALNAME:Doe mee mee Kies2026 weespfoto.nl
X-ALT-DESC;FMTTYPE=text/html:<a href='https://www.weespfoto.nl/agenda/item//369556'>https://weespfoto.nl/agenda/item//369556</a> || <p>Hilversum100, het netwerk van duurzame doeners, nodigt je uit mee te denken over wat wij als inwoners, de politiek ‘van onderop’ mee willen geven voor de toekomst van Hilversum, voor de gemeenteraadsverkiezingen. Gratis, inloop vanaf 19u. Meld je aan op hilversum100.nl/event/kies2026-4-maart/</p>
DESCRIPTION:<a href='https://www.weespfoto.nl/agenda/item//369556'>https://www.weespfoto.nl/agenda/item//369556</a> || Hilversum100, het netwerk van duurzame doeners, nodigt je uit mee te denken over wat wij als inwoners, de politiek ‘van onderop’ mee willen geven voor de toekomst van Hilversum, voor de gemeenteraadsverkiezingen. Gratis, inloop vanaf 19u. Meld je aan op hilversum100.nl/event/kies2026-4-maart/
LAST-MODIFIED:20260424T112441Z
LOCATION:Wijkcentrum st. Joseph Minckelersstraat 71 1223ld Hilversum
SEQUENCE:0
STATUS:CONFIRMED
SUMMARY:Doe mee mee Kies2026
TRANSP:OPAQUE
END:VEVENT
END:VCALENDAR
