BEGIN:VCALENDAR
PRODID:-//PUBBLE//enter agenda//NL
VERSION:2.0
METHOD:PUBLISH
BEGIN:VEVENT
DTSTART:20260308T083000Z
DTEND:20260308T093000Z
DTSTAMP:20260424T212659Z
UID:0ed6c6ee-9111-48ec-b0d5-383018a2db8f
CREATED:20260424T212659Z
URL:https://www.weespfoto.nl/agenda/item/369679
NAME:Zondagochtendkoffieconcert weespfoto.nl
X-WR-CALNAME:Zondagochtendkoffieconcert weespfoto.nl
X-ALT-DESC;FMTTYPE=text/html:<a href='https://www.weespfoto.nl/agenda/item//369679'>https://weespfoto.nl/agenda/item//369679</a> || <p>Geniet elke zondagochtend van een optreden in het Papageno Huis Laren. Zondag 8 maart treden Sofia Navarro (viool) &amp; Angel Martin del Burgos (piano) op. Het concert begint om 11.30 uur en duurt een uur. Kosten: € 13,50 p.p. Meer informatie en kaarten: https:www.papagenohuislaren.nl/agenda &nbsp;</p>
DESCRIPTION:<a href='https://www.weespfoto.nl/agenda/item//369679'>https://www.weespfoto.nl/agenda/item//369679</a> || Geniet elke zondagochtend van een optreden in het Papageno Huis Laren. Zondag 8 maart treden Sofia Navarro (viool) & Angel Martin del Burgos (piano) op. Het concert begint om 11.30 uur en duurt een uur. Kosten: € 13,50 p.p. Meer informatie en kaarten: https:www.papagenohuislaren.nl/agenda  
LAST-MODIFIED:20260424T212659Z
LOCATION:Papageno Huis Naarderstraat 77 1251bg Laren
SEQUENCE:0
STATUS:CONFIRMED
SUMMARY:Zondagochtendkoffieconcert
TRANSP:OPAQUE
END:VEVENT
END:VCALENDAR
