BEGIN:VCALENDAR
PRODID:-//PUBBLE//enter agenda//NL
VERSION:2.0
METHOD:PUBLISH
BEGIN:VEVENT
DTSTART:20260311T120000Z
DTEND:20260311T130000Z
DTSTAMP:20260424T025518Z
UID:f0a9dbe6-5965-4931-b6d6-9ab7e2ff2596
CREATED:20260424T025518Z
URL:https://www.weespfoto.nl/agenda/item/369744
NAME:Top-cellisten bij viore weespfoto.nl
X-WR-CALNAME:Top-cellisten bij viore weespfoto.nl
X-ALT-DESC;FMTTYPE=text/html:<a href='https://www.weespfoto.nl/agenda/item//369744'>https://weespfoto.nl/agenda/item//369744</a> || <p>Regelmatig kun je bij Viore komen genieten van live muziek. Muziek raakt en geeft vaak een stem aan diepere gevoelens.</p><p>Op woensdag 11 maart is er bij ons een mini-concert van 2 top-cellisten. Laat je meevoeren door de prachtige klanken van dit warme instrument.&nbsp;</p><p>Er zijn geen kosten aan verbonden.</p>
DESCRIPTION:<a href='https://www.weespfoto.nl/agenda/item//369744'>https://www.weespfoto.nl/agenda/item//369744</a> || Regelmatig kun je bij Viore komen genieten van live muziek. Muziek raakt en geeft vaak een stem aan diepere gevoelens.Op woensdag 11 maart is er bij ons een mini-concert van 2 top-cellisten. Laat je meevoeren door de prachtige klanken van dit warme instrument. Er zijn geen kosten aan verbonden.
LAST-MODIFIED:20260424T025518Z
LOCATION:Viore centrum voor iedereen die leeft met kanker Oosterengweg 44 1212CN Hilversum
SEQUENCE:0
STATUS:CONFIRMED
SUMMARY:Top-cellisten bij viore
TRANSP:OPAQUE
END:VEVENT
END:VCALENDAR
