BEGIN:VCALENDAR
PRODID:-//PUBBLE//enter agenda//NL
VERSION:2.0
METHOD:PUBLISH
BEGIN:VEVENT
DTSTART:20260305T171500Z
DTEND:20260305T210000Z
DTSTAMP:20260424T014748Z
UID:f61573f2-0751-41c8-b915-525ab094ee05
CREATED:20260424T014748Z
URL:https://www.weespfoto.nl/agenda/item/369767
NAME:Verkiezingsdebat weespfoto.nl
X-WR-CALNAME:Verkiezingsdebat weespfoto.nl
X-ALT-DESC;FMTTYPE=text/html:<a href='https://www.weespfoto.nl/agenda/item//369767'>https://weespfoto.nl/agenda/item//369767</a> || <p>Verkiezingsdebat: ‘Hoe haalt Diemen 900?’ - &nbsp;De gemeenteraadsverkiezingen komen eraan. Waar staan de politieke partijen op het gebied van thema’s als afval, circulaire samenleving, energie en groene buurten? Kom, luister en praat mee op donderdag 5 maart, vanaf 20.15 uur in Theater de Omval.&nbsp;</p>
DESCRIPTION:<a href='https://www.weespfoto.nl/agenda/item//369767'>https://www.weespfoto.nl/agenda/item//369767</a> || Verkiezingsdebat: ‘Hoe haalt Diemen 900?’ -  De gemeenteraadsverkiezingen komen eraan. Waar staan de politieke partijen op het gebied van thema’s als afval, circulaire samenleving, energie en groene buurten? Kom, luister en praat mee op donderdag 5 maart, vanaf 20.15 uur in Theater de Omval. 
LAST-MODIFIED:20260424T014748Z
LOCATION:Theater de Omval Ouddiemerlaan 104 1111HL Diemen
SEQUENCE:0
STATUS:CONFIRMED
SUMMARY:Verkiezingsdebat
TRANSP:OPAQUE
END:VEVENT
END:VCALENDAR
