BEGIN:VCALENDAR
PRODID:-//PUBBLE//enter agenda//NL
VERSION:2.0
METHOD:PUBLISH
BEGIN:VEVENT
DTSTART:20260304T070000Z
DTEND:20260304T090000Z
DTSTAMP:20260424T082615Z
UID:b089833e-f2be-46a4-84ad-da82ce333498
CREATED:20260424T082615Z
URL:https://www.weespfoto.nl/agenda/item/369897
NAME:De Gooise Stoomtram weespfoto.nl
X-WR-CALNAME:De Gooise Stoomtram weespfoto.nl
X-ALT-DESC;FMTTYPE=text/html:<a href='https://www.weespfoto.nl/agenda/item//369897'>https://weespfoto.nl/agenda/item//369897</a> || <p>In 1881 reed de eerste Gooise Stoomtram: dorpen verbonden met Amsterdam, handel groeide. Maar door vele ongelukken heette hij ook ‘de Gooise Moordenaar’. Lezing door Rienko Verboon over impact en erfenis. </p>
DESCRIPTION:<a href='https://www.weespfoto.nl/agenda/item//369897'>https://www.weespfoto.nl/agenda/item//369897</a> || In 1881 reed de eerste Gooise Stoomtram: dorpen verbonden met Amsterdam, handel groeide. Maar door vele ongelukken heette hij ook ‘de Gooise Moordenaar’. Lezing door Rienko Verboon over impact en erfenis. 
LAST-MODIFIED:20260424T082615Z
LOCATION:Bibliotheek Gooi+ Huizen Plein 2000 1 1271KK Huizen
SEQUENCE:0
STATUS:CONFIRMED
SUMMARY:De Gooise Stoomtram
TRANSP:OPAQUE
END:VEVENT
END:VCALENDAR
