BEGIN:VCALENDAR
PRODID:-//PUBBLE//enter agenda//NL
VERSION:2.0
METHOD:PUBLISH
BEGIN:VEVENT
DTSTART:20260130T085400Z
DTEND:20270106T085400Z
DTSTAMP:20260423T224820Z
UID:b0c895de-cf38-4800-a339-606c0c8334bd
CREATED:20260423T224820Z
URL:https://www.weespfoto.nl/agenda/item/370014
NAME:Tussen Kunst & Kop weespfoto.nl
X-WR-CALNAME:Tussen Kunst & Kop weespfoto.nl
X-ALT-DESC;FMTTYPE=text/html:<a href='https://www.weespfoto.nl/agenda/item//370014'>https://weespfoto.nl/agenda/item//370014</a> || <p>In deze tentoonstelling kijk je met andere ogen naar een kopje. Het werk van productontwerper Marieke van Heesbeen laat zien hoe keramiek balanceert tussen kunst en gebruik. Marieke nodigt je uit in haar speelse wereld. Een wereld van vormen, vertaald in kleur en bouwkundige voorwerpen. </p>
DESCRIPTION:<a href='https://www.weespfoto.nl/agenda/item//370014'>https://www.weespfoto.nl/agenda/item//370014</a> || In deze tentoonstelling kijk je met andere ogen naar een kopje. Het werk van productontwerper Marieke van Heesbeen laat zien hoe keramiek balanceert tussen kunst en gebruik. Marieke nodigt je uit in haar speelse wereld. Een wereld van vormen, vertaald in kleur en bouwkundige voorwerpen. 
LAST-MODIFIED:20260423T224820Z
LOCATION:    
SEQUENCE:0
STATUS:CONFIRMED
SUMMARY:Tussen Kunst & Kop
TRANSP:OPAQUE
END:VEVENT
END:VCALENDAR
