BEGIN:VCALENDAR
PRODID:-//PUBBLE//enter agenda//NL
VERSION:2.0
METHOD:PUBLISH
BEGIN:VEVENT
DTSTART:20260130T084800Z
DTEND:20270106T084800Z
DTSTAMP:20260423T202404Z
UID:0ac4c673-4264-4e40-900b-917055ee55f3
CREATED:20260423T202404Z
URL:https://www.weespfoto.nl/agenda/item/370015
NAME:Tussen Kunst & Kop weespfoto.nl
X-WR-CALNAME:Tussen Kunst & Kop weespfoto.nl
X-ALT-DESC;FMTTYPE=text/html:<a href='https://www.weespfoto.nl/agenda/item//370015'>https://weespfoto.nl/agenda/item//370015</a> || <p>In deze tentoonstelling kijk je met andere ogen naar een kopje. Het werk van productontwerper Marieke van Heesbeen laat zien hoe keramiek balanceert tussen kunst en gebruik. Marieke nodigt je uit in haar speelse wereld. Een wereld van vormen, vertaald in kleur en bouwkundige voorwerpen.&nbsp;</p>
DESCRIPTION:<a href='https://www.weespfoto.nl/agenda/item//370015'>https://www.weespfoto.nl/agenda/item//370015</a> || In deze tentoonstelling kijk je met andere ogen naar een kopje. Het werk van productontwerper Marieke van Heesbeen laat zien hoe keramiek balanceert tussen kunst en gebruik. Marieke nodigt je uit in haar speelse wereld. Een wereld van vormen, vertaald in kleur en bouwkundige voorwerpen. 
LAST-MODIFIED:20260423T202404Z
LOCATION:Museum Weesp, Nieuwstraat 41 Nieuwstraat 41 1381bd Weesp
SEQUENCE:0
STATUS:CONFIRMED
SUMMARY:Tussen Kunst & Kop
TRANSP:OPAQUE
END:VEVENT
END:VCALENDAR
