BEGIN:VCALENDAR
PRODID:-//PUBBLE//enter agenda//NL
VERSION:2.0
METHOD:PUBLISH
BEGIN:VEVENT
DTSTART:20260304T180500Z
DTEND:20260511T170500Z
DTSTAMP:20260424T142405Z
UID:c0d8ee5a-c8ad-43c8-b71c-7e2230c7fe7d
CREATED:20260424T142405Z
URL:https://www.weespfoto.nl/agenda/item/370049
NAME:Diverse leuke workhops weespfoto.nl
X-WR-CALNAME:Diverse leuke workhops weespfoto.nl
X-ALT-DESC;FMTTYPE=text/html:<a href='https://www.weespfoto.nl/agenda/item//370049'>https://weespfoto.nl/agenda/item//370049</a> || <p>Leuke workshops in maart en april bij de Kreatieve Groep Weesp, ook voor niet leden! Koken met Ilona (Modern midden-oosten, Italiaans, klassiekers en voorjaarsfavorieten), &nbsp;Schilderen, collage &amp; compositie, Mozaieken, Armbanden maken.</p>
DESCRIPTION:<a href='https://www.weespfoto.nl/agenda/item//370049'>https://www.weespfoto.nl/agenda/item//370049</a> || Leuke workshops in maart en april bij de Kreatieve Groep Weesp, ook voor niet leden! Koken met Ilona (Modern midden-oosten, Italiaans, klassiekers en voorjaarsfavorieten),  Schilderen, collage & compositie, Mozaieken, Armbanden maken.
LAST-MODIFIED:20260424T142405Z
LOCATION:Fort Ossenmark, Kreatieve Groep Weesp Ossenmarkt 44 1381lx Weesp
SEQUENCE:0
STATUS:CONFIRMED
SUMMARY:Diverse leuke workhops
TRANSP:OPAQUE
END:VEVENT
END:VCALENDAR
