BEGIN:VCALENDAR
PRODID:-//PUBBLE//enter agenda//NL
VERSION:2.0
METHOD:PUBLISH
BEGIN:VEVENT
DTSTART:20260304T070800Z
DTEND:20260429T060800Z
DTSTAMP:20260424T094619Z
UID:9b629345-c8d8-4557-8d97-63615c6f6787
CREATED:20260424T094619Z
URL:https://www.weespfoto.nl/agenda/item/370064
NAME:Belastinghulp spreekuur weespfoto.nl
X-WR-CALNAME:Belastinghulp spreekuur weespfoto.nl
X-ALT-DESC;FMTTYPE=text/html:<a href='https://www.weespfoto.nl/agenda/item//370064'>https://weespfoto.nl/agenda/item//370064</a> || <p>Mocht je bij het invullen van jouw belastingaangifte 2025 tegen vragen aanlopen, meld je dan aan voor het spreekuur in de Bibliotheek. Je wordt geholpen bij eenvoudige vragen over de belastingaangifte. Alleen voor particulieren, woonachtig in Hilversum. Aanmelden via de website is verplicht.</p>
DESCRIPTION:<a href='https://www.weespfoto.nl/agenda/item//370064'>https://www.weespfoto.nl/agenda/item//370064</a> || Mocht je bij het invullen van jouw belastingaangifte 2025 tegen vragen aanlopen, meld je dan aan voor het spreekuur in de Bibliotheek. Je wordt geholpen bij eenvoudige vragen over de belastingaangifte. Alleen voor particulieren, woonachtig in Hilversum. Aanmelden via de website is verplicht.
LAST-MODIFIED:20260424T094619Z
LOCATION:    
SEQUENCE:0
STATUS:CONFIRMED
SUMMARY:Belastinghulp spreekuur
TRANSP:OPAQUE
END:VEVENT
END:VCALENDAR
