BEGIN:VCALENDAR
PRODID:-//PUBBLE//enter agenda//NL
VERSION:2.0
METHOD:PUBLISH
BEGIN:VEVENT
DTSTART:20260306T071400Z
DTEND:20260417T061400Z
DTSTAMP:20260424T061534Z
UID:33bd7de6-0251-486a-90b7-6988f2d802f0
CREATED:20260424T061534Z
URL:https://www.weespfoto.nl/agenda/item/370065
NAME:Belastinghulp spreekuur weespfoto.nl
X-WR-CALNAME:Belastinghulp spreekuur weespfoto.nl
X-ALT-DESC;FMTTYPE=text/html:<a href='https://www.weespfoto.nl/agenda/item//370065'>https://weespfoto.nl/agenda/item//370065</a> || <p>Mocht je bij het invullen van jouw belastingaangifte 2025 tegen vragen aanlopen, meld je dan aan voor het spreekuur in de Bibliotheek. Je wordt geholpen bij eenvoudige vragen over de belastingaangifte. Alleen voor particulieren, woonachtig in Hilversum. Aanmelden via de website is verplicht.</p>
DESCRIPTION:<a href='https://www.weespfoto.nl/agenda/item//370065'>https://www.weespfoto.nl/agenda/item//370065</a> || Mocht je bij het invullen van jouw belastingaangifte 2025 tegen vragen aanlopen, meld je dan aan voor het spreekuur in de Bibliotheek. Je wordt geholpen bij eenvoudige vragen over de belastingaangifte. Alleen voor particulieren, woonachtig in Hilversum. Aanmelden via de website is verplicht.
LAST-MODIFIED:20260424T061534Z
LOCATION:    
SEQUENCE:0
STATUS:CONFIRMED
SUMMARY:Belastinghulp spreekuur
TRANSP:OPAQUE
END:VEVENT
END:VCALENDAR
