BEGIN:VCALENDAR
PRODID:-//PUBBLE//enter agenda//NL
VERSION:2.0
METHOD:PUBLISH
BEGIN:VEVENT
DTSTART:20260303T163000Z
DTEND:20261222T172800Z
DTSTAMP:20260424T041257Z
UID:c089c09e-1e80-473c-b3ef-d44bc490d4d6
CREATED:20260424T041257Z
URL:https://www.weespfoto.nl/agenda/item/370149
NAME:Samen Mediteren weespfoto.nl
X-WR-CALNAME:Samen Mediteren weespfoto.nl
X-ALT-DESC;FMTTYPE=text/html:<a href='https://www.weespfoto.nl/agenda/item//370149'>https://weespfoto.nl/agenda/item//370149</a> || <p>Een tweewekelijkse meditatie-avond voor wie wil leren mediteren, vaker wil mediteren of gewoon fijn samen wil mediteren.</p>
DESCRIPTION:<a href='https://www.weespfoto.nl/agenda/item//370149'>https://www.weespfoto.nl/agenda/item//370149</a> || Een tweewekelijkse meditatie-avond voor wie wil leren mediteren, vaker wil mediteren of gewoon fijn samen wil mediteren.
LAST-MODIFIED:20260424T041257Z
LOCATION:Haven 5 Havenstraat 5 1271AB Huizen
SEQUENCE:0
STATUS:CONFIRMED
SUMMARY:Samen Mediteren
TRANSP:OPAQUE
END:VEVENT
END:VCALENDAR
