BEGIN:VCALENDAR
PRODID:-//PUBBLE//enter agenda//NL
VERSION:2.0
METHOD:PUBLISH
BEGIN:VEVENT
DTSTART:20260306T170000Z
DTEND:20260306T190000Z
DTSTAMP:20260424T081954Z
UID:167c30a7-42a3-4b07-973a-69d05657bb42
CREATED:20260424T081954Z
URL:https://www.weespfoto.nl/agenda/item/370293
NAME:Sterke vrouwen weespfoto.nl
X-WR-CALNAME:Sterke vrouwen weespfoto.nl
X-ALT-DESC;FMTTYPE=text/html:<a href='https://www.weespfoto.nl/agenda/item//370293'>https://weespfoto.nl/agenda/item//370293</a> || <p>Laat je inspireren door vrouwen die muren van onrecht en vooroordelen afbreken. Véronique Konings brengt hun persoonlijke verhalen tot leven en laat zien hoe zij trouw blijven aan hun idealen. Kaarten: www.bibliotheekgooiplus.nl</p>
DESCRIPTION:<a href='https://www.weespfoto.nl/agenda/item//370293'>https://www.weespfoto.nl/agenda/item//370293</a> || Laat je inspireren door vrouwen die muren van onrecht en vooroordelen afbreken. Véronique Konings brengt hun persoonlijke verhalen tot leven en laat zien hoe zij trouw blijven aan hun idealen. Kaarten: www.bibliotheekgooiplus.nl
LAST-MODIFIED:20260424T081954Z
LOCATION:Bibliotheek Gooi+ Eemnes Noordersingel 4 3755ez Eemnes
SEQUENCE:0
STATUS:CONFIRMED
SUMMARY:Sterke vrouwen
TRANSP:OPAQUE
END:VEVENT
END:VCALENDAR
