BEGIN:VCALENDAR
PRODID:-//PUBBLE//enter agenda//NL
VERSION:2.0
METHOD:PUBLISH
BEGIN:VEVENT
DTSTART:20260309T070000Z
DTEND:20260309T090000Z
DTSTAMP:20260425T102817Z
UID:dff6bb07-d5bb-4c44-b765-82d6ccc6ce41
CREATED:20260425T102817Z
URL:https://www.weespfoto.nl/agenda/item/370296
NAME:De ooievaar weespfoto.nl
X-WR-CALNAME:De ooievaar weespfoto.nl
X-ALT-DESC;FMTTYPE=text/html:<a href='https://www.weespfoto.nl/agenda/item//370296'>https://weespfoto.nl/agenda/item//370296</a> || <p>De ooievaar geldt als geluksbrenger, maar wat is het echte verhaal? Arda van der Lee, voorzitter van STORK, vertelt over deze bijzondere vogel en haar jarenlange inzet voor onderzoek en bescherming. </p>
DESCRIPTION:<a href='https://www.weespfoto.nl/agenda/item//370296'>https://www.weespfoto.nl/agenda/item//370296</a> || De ooievaar geldt als geluksbrenger, maar wat is het echte verhaal? Arda van der Lee, voorzitter van STORK, vertelt over deze bijzondere vogel en haar jarenlange inzet voor onderzoek en bescherming. 
LAST-MODIFIED:20260425T102817Z
LOCATION:Bibliotheek Gooi + Laren Brink 29 1251kt Laren
SEQUENCE:0
STATUS:CONFIRMED
SUMMARY:De ooievaar
TRANSP:OPAQUE
END:VEVENT
END:VCALENDAR
