BEGIN:VCALENDAR
PRODID:-//PUBBLE//enter agenda//NL
VERSION:2.0
METHOD:PUBLISH
BEGIN:VEVENT
DTSTART:20260309T120000Z
DTEND:20260309T130000Z
DTSTAMP:20260425T122357Z
UID:d8441d15-27de-470f-ac0f-60ba27791fd4
CREATED:20260425T122357Z
URL:https://www.weespfoto.nl/agenda/item/370298
NAME:Kopje koffie met Bach weespfoto.nl
X-WR-CALNAME:Kopje koffie met Bach weespfoto.nl
X-ALT-DESC;FMTTYPE=text/html:<a href='https://www.weespfoto.nl/agenda/item//370298'>https://weespfoto.nl/agenda/item//370298</a> || <p>Kopje koffie met Bach. De lichte Koffiecantate en de indrukwekkende Matthäus-Passion lijken tegenpolen, maar delen muzikale raakvlakken. Waarom schreef Bach een cantate over koffie? </p>
DESCRIPTION:<a href='https://www.weespfoto.nl/agenda/item//370298'>https://www.weespfoto.nl/agenda/item//370298</a> || Kopje koffie met Bach. De lichte Koffiecantate en de indrukwekkende Matthäus-Passion lijken tegenpolen, maar delen muzikale raakvlakken. Waarom schreef Bach een cantate over koffie? 
LAST-MODIFIED:20260425T122357Z
LOCATION:Bibliotheek Gooi+ Huizen Plein 2000 1 1271KK Huizen
SEQUENCE:0
STATUS:CONFIRMED
SUMMARY:Kopje koffie met Bach
TRANSP:OPAQUE
END:VEVENT
END:VCALENDAR
