BEGIN:VCALENDAR
PRODID:-//PUBBLE//enter agenda//NL
VERSION:2.0
METHOD:PUBLISH
BEGIN:VEVENT
DTSTART:20260309T160000Z
DTEND:20260309T180000Z
DTSTAMP:20260425T135639Z
UID:e6aee503-3d11-46c7-b5b7-6c2607157fa9
CREATED:20260425T135639Z
URL:https://www.weespfoto.nl/agenda/item/370299
NAME:Politiek in Eemnes weespfoto.nl
X-WR-CALNAME:Politiek in Eemnes weespfoto.nl
X-ALT-DESC;FMTTYPE=text/html:<a href='https://www.weespfoto.nl/agenda/item//370299'>https://weespfoto.nl/agenda/item//370299</a> || <p>Maak kennis met de mens achter de partij. Ontmoet lokale politici, ontdek hun drijfveren en speerpunten en stel je vragen. Ga in gesprek en laat je stem horen. </p>
DESCRIPTION:<a href='https://www.weespfoto.nl/agenda/item//370299'>https://www.weespfoto.nl/agenda/item//370299</a> || Maak kennis met de mens achter de partij. Ontmoet lokale politici, ontdek hun drijfveren en speerpunten en stel je vragen. Ga in gesprek en laat je stem horen. 
LAST-MODIFIED:20260425T135639Z
LOCATION:Bibliotheek Gooi+ Eemnes Noordersingel 4 3755ez Eemnes
SEQUENCE:0
STATUS:CONFIRMED
SUMMARY:Politiek in Eemnes
TRANSP:OPAQUE
END:VEVENT
END:VCALENDAR
