BEGIN:VCALENDAR
PRODID:-//PUBBLE//enter agenda//NL
VERSION:2.0
METHOD:PUBLISH
BEGIN:VEVENT
DTSTART:20260311T130000Z
DTEND:20260311T140000Z
DTSTAMP:20260424T043604Z
UID:8df2a7b5-e400-4cf9-b32f-e78aeec70080
CREATED:20260424T043604Z
URL:https://www.weespfoto.nl/agenda/item/370357
NAME:Inloopspreekuur Mediafonds weespfoto.nl
X-WR-CALNAME:Inloopspreekuur Mediafonds weespfoto.nl
X-ALT-DESC;FMTTYPE=text/html:<a href='https://www.weespfoto.nl/agenda/item//370357'>https://weespfoto.nl/agenda/item//370357</a> || <p>Heb jij een verhaal uit Hilversum dat verteld moet worden? Of een idee voor een journalistieke of verhalende productie? Kom naar het inloopspreekuur van het Mediafonds op 12 maart van 16.00–17.00 uur. Bespreek je plan en krijg advies over je aanvraag. Meer info: mediafondshilversum.org</p>
DESCRIPTION:<a href='https://www.weespfoto.nl/agenda/item//370357'>https://www.weespfoto.nl/agenda/item//370357</a> || Heb jij een verhaal uit Hilversum dat verteld moet worden? Of een idee voor een journalistieke of verhalende productie? Kom naar het inloopspreekuur van het Mediafonds op 12 maart van 16.00–17.00 uur. Bespreek je plan en krijg advies over je aanvraag. Meer info: mediafondshilversum.org
LAST-MODIFIED:20260424T043604Z
LOCATION:The Rock verzamelgebouw Naarderweg 16 1217 GL Hilversum
SEQUENCE:0
STATUS:CONFIRMED
SUMMARY:Inloopspreekuur Mediafonds
TRANSP:OPAQUE
END:VEVENT
END:VCALENDAR
