BEGIN:VCALENDAR
PRODID:-//PUBBLE//enter agenda//NL
VERSION:2.0
METHOD:PUBLISH
BEGIN:VEVENT
DTSTART:20260306T083000Z
DTEND:20260306T113000Z
DTSTAMP:20260424T080353Z
UID:9b251e04-fef7-461f-b662-056ff86ba83b
CREATED:20260424T080353Z
URL:https://www.weespfoto.nl/agenda/item/370365
NAME:Taxatiedag Oud Goud weespfoto.nl
X-WR-CALNAME:Taxatiedag Oud Goud weespfoto.nl
X-ALT-DESC;FMTTYPE=text/html:<a href='https://www.weespfoto.nl/agenda/item//370365'>https://weespfoto.nl/agenda/item//370365</a> || <p>Oud Goud Inkoop taxatiedag Laren</p><p>Op 6 maart 2026 van 11.30 uur – 15.30 uur is er een taxatiedag van Oud Goud Inkoop in het Brinkhuis in Laren. Iedereen kan hier terecht om de waarde van oude sieraden, horloges, muntencollecties en zilverwerk te laten bepalen.</p>
DESCRIPTION:<a href='https://www.weespfoto.nl/agenda/item//370365'>https://www.weespfoto.nl/agenda/item//370365</a> || Oud Goud Inkoop taxatiedag LarenOp 6 maart 2026 van 11.30 uur – 15.30 uur is er een taxatiedag van Oud Goud Inkoop in het Brinkhuis in Laren. Iedereen kan hier terecht om de waarde van oude sieraden, horloges, muntencollecties en zilverwerk te laten bepalen.
LAST-MODIFIED:20260424T080353Z
LOCATION:Brinkhuis Brink 29 1251kt Laren
SEQUENCE:0
STATUS:CONFIRMED
SUMMARY:Taxatiedag Oud Goud
TRANSP:OPAQUE
END:VEVENT
END:VCALENDAR
