BEGIN:VCALENDAR
PRODID:-//PUBBLE//enter agenda//NL
VERSION:2.0
METHOD:PUBLISH
BEGIN:VEVENT
DTSTART:20260306T142300Z
DTEND:20260402T132300Z
DTSTAMP:20260424T033734Z
UID:c33fdf23-a885-4887-a948-60ea3334ead0
CREATED:20260424T033734Z
URL:https://www.weespfoto.nl/agenda/item/370525
NAME:Mamacafé Huizen weespfoto.nl
X-WR-CALNAME:Mamacafé Huizen weespfoto.nl
X-ALT-DESC;FMTTYPE=text/html:<a href='https://www.weespfoto.nl/agenda/item//370525'>https://weespfoto.nl/agenda/item//370525</a> || <p>Het Mamacafé is een ontmoetingsplek voor zwangeren en ouders met kinderen tot 4 jaar. Terwijl wij de ouders op koffie en thee trakteren en een praatje, kunnen de kinderen heerlijk met elkaar spelen.&nbsp;</p><p>Regelmatig zijn er thema’s. Kijk hiervoor op:&nbsp; f mamacafehuizen</p>
DESCRIPTION:<a href='https://www.weespfoto.nl/agenda/item//370525'>https://www.weespfoto.nl/agenda/item//370525</a> || Het Mamacafé is een ontmoetingsplek voor zwangeren en ouders met kinderen tot 4 jaar. Terwijl wij de ouders op koffie en thee trakteren en een praatje, kunnen de kinderen heerlijk met elkaar spelen. Regelmatig zijn er thema’s. Kijk hiervoor op:  f mamacafehuizen
LAST-MODIFIED:20260424T033734Z
LOCATION:Damwand Damwand 1 1274pc Huizen
SEQUENCE:0
STATUS:CONFIRMED
SUMMARY:Mamacafé Huizen
TRANSP:OPAQUE
END:VEVENT
END:VCALENDAR
