BEGIN:VCALENDAR
PRODID:-//PUBBLE//enter agenda//NL
VERSION:2.0
METHOD:PUBLISH
BEGIN:VEVENT
DTSTART:20260311T080800Z
DTEND:20270310T080800Z
DTSTAMP:20260423T211631Z
UID:36d95ce2-216b-4fc5-9fd4-3a5309012b3d
CREATED:20260423T211631Z
URL:https://www.weespfoto.nl/agenda/item/370769
NAME:Op Verhaal Komen weespfoto.nl
X-WR-CALNAME:Op Verhaal Komen weespfoto.nl
X-ALT-DESC;FMTTYPE=text/html:<a href='https://www.weespfoto.nl/agenda/item//370769'>https://weespfoto.nl/agenda/item//370769</a> || <p>De Brug Huizen</p>
DESCRIPTION:<a href='https://www.weespfoto.nl/agenda/item//370769'>https://www.weespfoto.nl/agenda/item//370769</a> || De Brug Huizen
LAST-MODIFIED:20260423T211631Z
LOCATION:Ichthuskerk Kortenaerstraat 5 1271sp Huizen
SEQUENCE:0
STATUS:CONFIRMED
SUMMARY:Op Verhaal Komen
TRANSP:OPAQUE
END:VEVENT
END:VCALENDAR
