BEGIN:VCALENDAR
PRODID:-//PUBBLE//enter agenda//NL
VERSION:2.0
METHOD:PUBLISH
BEGIN:VEVENT
DTSTART:20260306T103100Z
DTEND:20260627T093100Z
DTSTAMP:20260423T202236Z
UID:5d734c51-c2ab-4096-989b-a75ef5cb642d
CREATED:20260423T202236Z
URL:https://www.weespfoto.nl/agenda/item/370872
NAME:KLUSKLOOSTER Ma.Di.Do. 20u weespfoto.nl
X-WR-CALNAME:KLUSKLOOSTER Ma.Di.Do. 20u weespfoto.nl
X-ALT-DESC;FMTTYPE=text/html:<a href='https://www.weespfoto.nl/agenda/item//370872'>https://weespfoto.nl/agenda/item//370872</a> || <p><strong>Kom naar het KlusKlooster!&nbsp;</strong></p><p>Het KlusKlooster is een open plek waar je samen klus- en reparatiewerkzaamheden uitvoert aan bijvoorbeeld huishoudelijke apparatuur, je fiets, auto of een ander creatief project.&nbsp;</p><p>Onze filosofie is: vraag wat je nodig hebt, deel wat je over hebt.</p><p>www.klusklooster.nl</p>
DESCRIPTION:<a href='https://www.weespfoto.nl/agenda/item//370872'>https://www.weespfoto.nl/agenda/item//370872</a> || Kom naar het KlusKlooster! Het KlusKlooster is een open plek waar je samen klus- en reparatiewerkzaamheden uitvoert aan bijvoorbeeld huishoudelijke apparatuur, je fiets, auto of een ander creatief project. Onze filosofie is: vraag wat je nodig hebt, deel wat je over hebt.www.klusklooster.nl
LAST-MODIFIED:20260423T202236Z
LOCATION:Het Klusklooster Korte Noorderweg 36 1221nb Hilversum
SEQUENCE:0
STATUS:CONFIRMED
SUMMARY:KLUSKLOOSTER Ma.Di.Do. 20u
TRANSP:OPAQUE
END:VEVENT
END:VCALENDAR
