BEGIN:VCALENDAR
PRODID:-//PUBBLE//enter agenda//NL
VERSION:2.0
METHOD:PUBLISH
BEGIN:VEVENT
DTSTART:20261115T100000Z
DTEND:20261115T130000Z
DTSTAMP:20260424T090601Z
UID:6d3aea96-5aa7-45a4-9cd5-aced1efe7bcc
CREATED:20260424T090601Z
URL:https://www.weespfoto.nl/agenda/item/371875
NAME:Openstelling weespfoto.nl
X-WR-CALNAME:Openstelling weespfoto.nl
X-ALT-DESC;FMTTYPE=text/html:<a href='https://www.weespfoto.nl/agenda/item//371875'>https://weespfoto.nl/agenda/item//371875</a> || <p>Bezoek elke derde zondag van de maand (13:00–16:00) de Van Houtenkerk. Stadsherstel houdt monumentale gebouwen toegankelijk door creatieve herbestemming. Zo blijft cultureel erfgoed behouden. Check de cultuuragenda voor updates en uitzonderingen.</p>
DESCRIPTION:<a href='https://www.weespfoto.nl/agenda/item//371875'>https://www.weespfoto.nl/agenda/item//371875</a> || Bezoek elke derde zondag van de maand (13:00–16:00) de Van Houtenkerk. Stadsherstel houdt monumentale gebouwen toegankelijk door creatieve herbestemming. Zo blijft cultureel erfgoed behouden. Check de cultuuragenda voor updates en uitzonderingen.
LAST-MODIFIED:20260424T090601Z
LOCATION:Van Houtenkerk Oudegracht 69 Oudegracht 69 1381xx Weesp
SEQUENCE:0
STATUS:CONFIRMED
SUMMARY:Openstelling
TRANSP:OPAQUE
END:VEVENT
END:VCALENDAR
