BEGIN:VCALENDAR
PRODID:-//PUBBLE//enter agenda//NL
VERSION:2.0
METHOD:PUBLISH
BEGIN:VEVENT
DTSTART:20260401T063000Z
DTEND:20260412T130000Z
DTSTAMP:20260424T103054Z
UID:9662b2c4-737a-4aa0-8b89-5e9c51bce16b
CREATED:20260424T103054Z
URL:https://www.weespfoto.nl/agenda/item/372229
NAME:Pampus is weer open! weespfoto.nl
X-WR-CALNAME:Pampus is weer open! weespfoto.nl
X-ALT-DESC;FMTTYPE=text/html:<a href='https://www.weespfoto.nl/agenda/item//372229'>https://weespfoto.nl/agenda/item//372229</a> || <p>De eerste dagen van het seizoen hebben iets bijzonders: frisse voorjaarslucht, ruimte in het fort en weidse uitzichten over het water richting Amsterdam, Muiden en Almere. Een ontspannen begin van het Pampusjaar. Verrassend dichtbij en toch helemaal weg. Zeker als je meevliegt in de Luchtballon!</p>
DESCRIPTION:<a href='https://www.weespfoto.nl/agenda/item//372229'>https://www.weespfoto.nl/agenda/item//372229</a> || De eerste dagen van het seizoen hebben iets bijzonders: frisse voorjaarslucht, ruimte in het fort en weidse uitzichten over het water richting Amsterdam, Muiden en Almere. Een ontspannen begin van het Pampusjaar. Verrassend dichtbij en toch helemaal weg. Zeker als je meevliegt in de Luchtballon!
LAST-MODIFIED:20260424T103054Z
LOCATION:Forteiland Pampus Fortwoning Pampus 1 1398PX Muiden
SEQUENCE:0
STATUS:CONFIRMED
SUMMARY:Pampus is weer open!
TRANSP:OPAQUE
END:VEVENT
END:VCALENDAR
