BEGIN:VCALENDAR
PRODID:-//PUBBLE//enter agenda//NL
VERSION:2.0
METHOD:PUBLISH
BEGIN:VEVENT
DTSTART:20260428T160000Z
DTEND:20260428T190000Z
DTSTAMP:20260423T093934Z
UID:f4d2393b-666f-40cc-81cf-6be9daba73dc
CREATED:20260423T093934Z
URL:https://www.weespfoto.nl/agenda/item/372239
NAME:Queer Filmavond: Julian weespfoto.nl
X-WR-CALNAME:Queer Filmavond: Julian weespfoto.nl
X-ALT-DESC;FMTTYPE=text/html:<a href='https://www.weespfoto.nl/agenda/item//372239'>https://weespfoto.nl/agenda/item//372239</a> || <p>Het ontroerende en waargebeurde liefdesverhaal van Fleur en Julian. Ze willen met elkaar trouwen en er ontstaat een intrigerend idee. Zou het mogelijk zijn om in elk land waar dat kan “ja” te zeggen? Na 4 ceremonies wordt hun reis abrupt onderbroken en moeten ze hun plannen onverwachts stopzetten. </p>
DESCRIPTION:<a href='https://www.weespfoto.nl/agenda/item//372239'>https://www.weespfoto.nl/agenda/item//372239</a> || Het ontroerende en waargebeurde liefdesverhaal van Fleur en Julian. Ze willen met elkaar trouwen en er ontstaat een intrigerend idee. Zou het mogelijk zijn om in elk land waar dat kan “ja” te zeggen? Na 4 ceremonies wordt hun reis abrupt onderbroken en moeten ze hun plannen onverwachts stopzetten. 
LAST-MODIFIED:20260423T093934Z
LOCATION:City of Wesopa Herengracht 23 Herengracht 23 1382ag Weesp
SEQUENCE:0
STATUS:CONFIRMED
SUMMARY:Queer Filmavond: Julian
TRANSP:OPAQUE
END:VEVENT
END:VCALENDAR
