BEGIN:VCALENDAR
PRODID:-//PUBBLE//enter agenda//NL
VERSION:2.0
METHOD:PUBLISH
BEGIN:VEVENT
DTSTART:20261014T124500Z
DTEND:20261030T134500Z
DTSTAMP:20260424T125413Z
UID:7912f1e0-8f96-45e0-bf02-018f9562c7d8
CREATED:20260424T125413Z
URL:https://www.weespfoto.nl/agenda/item/372432
NAME:Vogelringdagen Pampus weespfoto.nl
X-WR-CALNAME:Vogelringdagen Pampus weespfoto.nl
X-ALT-DESC;FMTTYPE=text/html:<a href='https://www.weespfoto.nl/agenda/item//372432'>https://weespfoto.nl/agenda/item//372432</a> || <p>In oktober maakt het eiland zich op voor de winter. Sommige soorten vertrekken, andere blijven overwinteren. Tijdens de vogelringdagen ontdek je hoe vogels zich aanpassen aan kou en kortere dagen, en welke soorten juist nu te zien zijn. Een verstilde, maar boeiende afsluiting van het vogeljaar.</p>
DESCRIPTION:<a href='https://www.weespfoto.nl/agenda/item//372432'>https://www.weespfoto.nl/agenda/item//372432</a> || In oktober maakt het eiland zich op voor de winter. Sommige soorten vertrekken, andere blijven overwinteren. Tijdens de vogelringdagen ontdek je hoe vogels zich aanpassen aan kou en kortere dagen, en welke soorten juist nu te zien zijn. Een verstilde, maar boeiende afsluiting van het vogeljaar.
LAST-MODIFIED:20260424T125413Z
LOCATION:Forteiland Pampus Fort Pampus  1398px Muiden
SEQUENCE:0
STATUS:CONFIRMED
SUMMARY:Vogelringdagen Pampus
TRANSP:OPAQUE
END:VEVENT
END:VCALENDAR
