BEGIN:VCALENDAR
PRODID:-//PUBBLE//enter agenda//NL
VERSION:2.0
METHOD:PUBLISH
BEGIN:VEVENT
DTSTART:20260421T153000Z
DTEND:20260521T170000Z
DTSTAMP:20260423T164557Z
UID:fb71a571-adbf-43fa-bd7b-85c55fd34e02
CREATED:20260423T164557Z
URL:https://www.weespfoto.nl/agenda/item/372441
NAME:Engelse Leesvaardigheid weespfoto.nl
X-WR-CALNAME:Engelse Leesvaardigheid weespfoto.nl
X-ALT-DESC;FMTTYPE=text/html:<a href='https://www.weespfoto.nl/agenda/item//372441'>https://weespfoto.nl/agenda/item//372441</a> || <p>Masterclass Engelse Leesvaardigheid: Denk als een Examenontwikkelaar</p><p>Masterclass Engelse Leesvaardigheid door Madeleine Bletterman. Stop met gokken en voorkom ‘zeperds’. 21 April 19:30 uur € 12.50. Meld je aan!.</p>
DESCRIPTION:<a href='https://www.weespfoto.nl/agenda/item//372441'>https://www.weespfoto.nl/agenda/item//372441</a> || Masterclass Engelse Leesvaardigheid: Denk als een ExamenontwikkelaarMasterclass Engelse Leesvaardigheid door Madeleine Bletterman. Stop met gokken en voorkom ‘zeperds’. 21 April 19:30 uur € 12.50. Meld je aan!.
LAST-MODIFIED:20260423T164557Z
LOCATION:Brinkhuis Brink 29 1251kt Laren
SEQUENCE:0
STATUS:CONFIRMED
SUMMARY:Engelse Leesvaardigheid
TRANSP:OPAQUE
END:VEVENT
END:VCALENDAR
