BEGIN:VCALENDAR
PRODID:-//PUBBLE//enter agenda//NL
VERSION:2.0
METHOD:PUBLISH
BEGIN:VEVENT
DTSTART:20260424T160000Z
DTEND:20260524T173000Z
DTSTAMP:20260424T053003Z
UID:085aaca5-8b8f-4595-b666-39bc72195b53
CREATED:20260424T053003Z
URL:https://www.weespfoto.nl/agenda/item/372498
NAME:Durf te botsen! weespfoto.nl
X-WR-CALNAME:Durf te botsen! weespfoto.nl
X-ALT-DESC;FMTTYPE=text/html:<a href='https://www.weespfoto.nl/agenda/item//372498'>https://weespfoto.nl/agenda/item//372498</a> || <p>Pas je je aan, of blijf je jezelf? Voor goede verbindingen is het nodig om jezelf niet te veel aan te passen. En daarmee dus het risico te nemen om te botsen. Hoe ga je daarmee om? Een gezellige avond met laagdrempelige oefeningen en boeiende gesprekken!</p>
DESCRIPTION:<a href='https://www.weespfoto.nl/agenda/item//372498'>https://www.weespfoto.nl/agenda/item//372498</a> || Pas je je aan, of blijf je jezelf? Voor goede verbindingen is het nodig om jezelf niet te veel aan te passen. En daarmee dus het risico te nemen om te botsen. Hoe ga je daarmee om? Een gezellige avond met laagdrempelige oefeningen en boeiende gesprekken!
LAST-MODIFIED:20260424T053003Z
LOCATION:Gebouw De Vereniging Oude Enghweg 19 1217jb Hilversum
SEQUENCE:0
STATUS:CONFIRMED
SUMMARY:Durf te botsen!
TRANSP:OPAQUE
END:VEVENT
END:VCALENDAR
