BEGIN:VCALENDAR
PRODID:-//PUBBLE//enter agenda//NL
VERSION:2.0
METHOD:PUBLISH
BEGIN:VEVENT
DTSTART:20260420T060000Z
DTEND:20260420T080000Z
DTSTAMP:20260424T150824Z
UID:c369c5fc-a542-4f6a-8193-3e65e170ed32
CREATED:20260424T150824Z
URL:https://www.weespfoto.nl/agenda/item/372506
NAME:Oude landbouwgewassen weespfoto.nl
X-WR-CALNAME:Oude landbouwgewassen weespfoto.nl
X-ALT-DESC;FMTTYPE=text/html:<a href='https://www.weespfoto.nl/agenda/item//372506'>https://weespfoto.nl/agenda/item//372506</a> || <p>Lezing over het werk van de Stichting Oude Landbouwgewassen Laren. Over de samenhang natuur en mens, biodiversiteit en hoe verantwoorde landbouw gezonder voedsel oplevert.</p>
DESCRIPTION:<a href='https://www.weespfoto.nl/agenda/item//372506'>https://www.weespfoto.nl/agenda/item//372506</a> || Lezing over het werk van de Stichting Oude Landbouwgewassen Laren. Over de samenhang natuur en mens, biodiversiteit en hoe verantwoorde landbouw gezonder voedsel oplevert.
LAST-MODIFIED:20260424T150824Z
LOCATION:Bibliotheek Gooi + Laren Brink 29 1251kt Laren
SEQUENCE:0
STATUS:CONFIRMED
SUMMARY:Oude landbouwgewassen
TRANSP:OPAQUE
END:VEVENT
END:VCALENDAR
