BEGIN:VCALENDAR
PRODID:-//PUBBLE//enter agenda//NL
VERSION:2.0
METHOD:PUBLISH
BEGIN:VEVENT
DTSTART:20260430T153000Z
DTEND:20260530T180000Z
DTSTAMP:20260423T202435Z
UID:35f880ef-7c63-42de-9ade-af9d44dc359a
CREATED:20260423T202435Z
URL:https://www.weespfoto.nl/agenda/item/372530
NAME:Benefietavond Oekraine weespfoto.nl
X-WR-CALNAME:Benefietavond Oekraine weespfoto.nl
X-ALT-DESC;FMTTYPE=text/html:<a href='https://www.weespfoto.nl/agenda/item//372530'>https://weespfoto.nl/agenda/item//372530</a> || <p>Op donderdag 30 april 2026 slaat Laren de handen ineen voor een veldhospitaal voor de Oekraine. In het Brinkhuis in Laren organiseren Ellis de Brouwers, Ton Stam en Marc Vos een indrukwekkende benefietavond. </p>
DESCRIPTION:<a href='https://www.weespfoto.nl/agenda/item//372530'>https://www.weespfoto.nl/agenda/item//372530</a> || Op donderdag 30 april 2026 slaat Laren de handen ineen voor een veldhospitaal voor de Oekraine. In het Brinkhuis in Laren organiseren Ellis de Brouwers, Ton Stam en Marc Vos een indrukwekkende benefietavond. 
LAST-MODIFIED:20260423T202435Z
LOCATION:Brinkhuis Brink 29 1251kt Laren
SEQUENCE:0
STATUS:CONFIRMED
SUMMARY:Benefietavond Oekraine
TRANSP:OPAQUE
END:VEVENT
END:VCALENDAR
