BEGIN:VCALENDAR
PRODID:-//PUBBLE//enter agenda//NL
VERSION:2.0
METHOD:PUBLISH
BEGIN:VEVENT
DTSTART:20260430T160000Z
DTEND:20260430T190000Z
DTSTAMP:20260423T202419Z
UID:d697923a-3bf1-4d2f-bf5f-bc1dc42825a8
CREATED:20260423T202419Z
URL:https://www.weespfoto.nl/agenda/item/372531
NAME:FILM  Joe Speedboot weespfoto.nl
X-WR-CALNAME:FILM  Joe Speedboot weespfoto.nl
X-ALT-DESC;FMTTYPE=text/html:<a href='https://www.weespfoto.nl/agenda/item//372531'>https://weespfoto.nl/agenda/item//372531</a> || <p>Verfilming van de bestseller van Tommy Wieringa: nadat Fransje Hermans door een bizar ongeluk in een rolstoel terechtkomt, lijkt hij gedoemd zijn dagen te slijten in het slome dorp Lomark. De komst van nieuwkomer Joe Speedboot verandert zijn uitzichtloze leven.</p>
DESCRIPTION:<a href='https://www.weespfoto.nl/agenda/item//372531'>https://www.weespfoto.nl/agenda/item//372531</a> || Verfilming van de bestseller van Tommy Wieringa: nadat Fransje Hermans door een bizar ongeluk in een rolstoel terechtkomt, lijkt hij gedoemd zijn dagen te slijten in het slome dorp Lomark. De komst van nieuwkomer Joe Speedboot verandert zijn uitzichtloze leven.
LAST-MODIFIED:20260423T202419Z
LOCATION:City of Wesopa Herengracht 23 Herengracht 23 1382ag Weesp
SEQUENCE:0
STATUS:CONFIRMED
SUMMARY:FILM  Joe Speedboot
TRANSP:OPAQUE
END:VEVENT
END:VCALENDAR
