BEGIN:VCALENDAR
PRODID:-//PUBBLE//enter agenda//NL
VERSION:2.0
METHOD:PUBLISH
BEGIN:VEVENT
DTSTART:20260429T073000Z
DTEND:20260429T083000Z
DTSTAMP:20260423T093933Z
UID:7812eab9-e073-4723-b7ad-5442bd36e200
CREATED:20260423T093933Z
URL:https://www.weespfoto.nl/agenda/item/372587
NAME:Klankbad Meditatie weespfoto.nl
X-WR-CALNAME:Klankbad Meditatie weespfoto.nl
X-ALT-DESC;FMTTYPE=text/html:<a href='https://www.weespfoto.nl/agenda/item//372587'>https://weespfoto.nl/agenda/item//372587</a> || <p>Bij een klankbad(meditatie) ga je lekker ontspannen zitten of liggen met je ogen dicht. Daarna hoef je alleen maar te genieten van de zachte klanken van live bespeelde klankschalen en andere instrumenten. Misschien droom je ook lekker weg of waan je je even in verre oorden.</p>
DESCRIPTION:<a href='https://www.weespfoto.nl/agenda/item//372587'>https://www.weespfoto.nl/agenda/item//372587</a> || Bij een klankbad(meditatie) ga je lekker ontspannen zitten of liggen met je ogen dicht. Daarna hoef je alleen maar te genieten van de zachte klanken van live bespeelde klankschalen en andere instrumenten. Misschien droom je ook lekker weg of waan je je even in verre oorden.
LAST-MODIFIED:20260423T093933Z
LOCATION:Haven 5 Havenstraat 5 1271AB Huizen
SEQUENCE:0
STATUS:CONFIRMED
SUMMARY:Klankbad Meditatie
TRANSP:OPAQUE
END:VEVENT
END:VCALENDAR
