BEGIN:VCALENDAR
PRODID:-//PUBBLE//enter agenda//NL
VERSION:2.0
METHOD:PUBLISH
BEGIN:VEVENT
DTSTART:20260501T063000Z
DTEND:20260501T120000Z
DTSTAMP:20260423T231231Z
UID:514106ef-3f01-47f2-856f-cd822cd2f07f
CREATED:20260423T231231Z
URL:https://www.weespfoto.nl/agenda/item/372644
NAME:Plusbus Weesp weespfoto.nl
X-WR-CALNAME:Plusbus Weesp weespfoto.nl
X-ALT-DESC;FMTTYPE=text/html:<a href='https://www.weespfoto.nl/agenda/item//372644'>https://weespfoto.nl/agenda/item//372644</a> || <p>High Tea - Tuincentrum De Bosrand - Woerden&nbsp;</p><p>U kunt uw hart ophalen in het tuincentrum voor of na de uitgebreide High tea. De chauffeur rijdt een mooie route heen en terug.</p><p>info ma en vr tussen 10-12 uur op 0294410639</p>
DESCRIPTION:<a href='https://www.weespfoto.nl/agenda/item//372644'>https://www.weespfoto.nl/agenda/item//372644</a> || High Tea - Tuincentrum De Bosrand - Woerden U kunt uw hart ophalen in het tuincentrum voor of na de uitgebreide High tea. De chauffeur rijdt een mooie route heen en terug.info ma en vr tussen 10-12 uur op 0294410639
LAST-MODIFIED:20260423T231231Z
LOCATION:Thuis ophalen xx xx XXXX Weesp
SEQUENCE:0
STATUS:CONFIRMED
SUMMARY:Plusbus Weesp
TRANSP:OPAQUE
END:VEVENT
END:VCALENDAR
