BEGIN:VCALENDAR
PRODID:-//PUBBLE//enter agenda//NL
VERSION:2.0
METHOD:PUBLISH
BEGIN:VEVENT
DTSTART:20260429T100000Z
DTEND:20260429T110000Z
DTSTAMP:20260423T093932Z
UID:87495bf5-29bd-4624-a1ff-2d47a3ad0680
CREATED:20260423T093932Z
URL:https://www.weespfoto.nl/agenda/item/372731
NAME:Quintus, de goochelaar weespfoto.nl
X-WR-CALNAME:Quintus, de goochelaar weespfoto.nl
X-ALT-DESC;FMTTYPE=text/html:<a href='https://www.weespfoto.nl/agenda/item//372731'>https://weespfoto.nl/agenda/item//372731</a> || <p>Quintus, de &nbsp;goochelaar, wandelt langs het publiek en weet heel informeel een praatje aan te knopen met de aanwezigen. En dan volgt de verwondering…. Zo is rondlopend goochelen geschikt voor iedereen.</p>
DESCRIPTION:<a href='https://www.weespfoto.nl/agenda/item//372731'>https://www.weespfoto.nl/agenda/item//372731</a> || Quintus, de  goochelaar, wandelt langs het publiek en weet heel informeel een praatje aan te knopen met de aanwezigen. En dan volgt de verwondering…. Zo is rondlopend goochelen geschikt voor iedereen.
LAST-MODIFIED:20260423T093932Z
LOCATION:Bibliotheek Gooi+ Eemnes Noordersingel 4 3755ez Eemnes
SEQUENCE:0
STATUS:CONFIRMED
SUMMARY:Quintus, de goochelaar
TRANSP:OPAQUE
END:VEVENT
END:VCALENDAR
