BEGIN:VCALENDAR
PRODID:-//PUBBLE//enter agenda//NL
VERSION:2.0
METHOD:PUBLISH
BEGIN:VEVENT
DTSTART:20260529T123000Z
DTEND:20260531T133000Z
DTSTAMP:20260422T083937Z
UID:9c54110b-8ee0-4874-aa59-726bb83870be
CREATED:20260422T083937Z
URL:https://www.weespfoto.nl/agenda/item/372764
NAME:Muziek-en dans festival weespfoto.nl
X-WR-CALNAME:Muziek-en dans festival weespfoto.nl
X-ALT-DESC;FMTTYPE=text/html:<a href='https://www.weespfoto.nl/agenda/item//372764'>https://weespfoto.nl/agenda/item//372764</a> || <p>Bereid je voor op een bruisend weekend vol cultuur! Het Brinkhuis organiseert, samen met Muziekvereniging St. Jan en De Gooische Muziekschool, de vierde editie van het Zomer Muziek- en Dansfestival Laren. Geniet van workshops, optredens en lokaal talent in hartje Laren.</p>
DESCRIPTION:<a href='https://www.weespfoto.nl/agenda/item//372764'>https://www.weespfoto.nl/agenda/item//372764</a> || Bereid je voor op een bruisend weekend vol cultuur! Het Brinkhuis organiseert, samen met Muziekvereniging St. Jan en De Gooische Muziekschool, de vierde editie van het Zomer Muziek- en Dansfestival Laren. Geniet van workshops, optredens en lokaal talent in hartje Laren.
LAST-MODIFIED:20260422T083937Z
LOCATION:Brinkhuis Brink 29 1251kt Laren
SEQUENCE:0
STATUS:CONFIRMED
SUMMARY:Muziek-en dans festival
TRANSP:OPAQUE
END:VEVENT
END:VCALENDAR
