BEGIN:VCALENDAR
PRODID:-//PUBBLE//enter agenda//NL
VERSION:2.0
METHOD:PUBLISH
BEGIN:VEVENT
DTSTART:20260430T103000Z
DTEND:20260430T133000Z
DTSTAMP:20260423T202523Z
UID:25375ec7-c276-4478-b051-e70be6757920
CREATED:20260423T202523Z
URL:https://www.weespfoto.nl/agenda/item/372843
NAME:Creatief met Riso weespfoto.nl
X-WR-CALNAME:Creatief met Riso weespfoto.nl
X-ALT-DESC;FMTTYPE=text/html:<a href='https://www.weespfoto.nl/agenda/item//372843'>https://weespfoto.nl/agenda/item//372843</a> || <p>Stap in de wereld van de Risograph en ontdek een analoge druktechniek die tussen een zeefdruk en een kopieerapparaat in zit. Geen schermen, geen digitale tools – maar knippen, plakken, inkt, waterverf en een flinke dosis experiment!</p>
DESCRIPTION:<a href='https://www.weespfoto.nl/agenda/item//372843'>https://www.weespfoto.nl/agenda/item//372843</a> || Stap in de wereld van de Risograph en ontdek een analoge druktechniek die tussen een zeefdruk en een kopieerapparaat in zit. Geen schermen, geen digitale tools – maar knippen, plakken, inkt, waterverf en een flinke dosis experiment!
LAST-MODIFIED:20260423T202523Z
LOCATION:Haven 5 Havenstraat 5 1271AB Huizen
SEQUENCE:0
STATUS:CONFIRMED
SUMMARY:Creatief met Riso
TRANSP:OPAQUE
END:VEVENT
END:VCALENDAR
