BEGIN:VCALENDAR
PRODID:-//PUBBLE//enter agenda//NL
VERSION:2.0
METHOD:PUBLISH
BEGIN:VEVENT
DTSTART:20260423T160000Z
DTEND:20260423T171500Z
DTSTAMP:20260423T080611Z
UID:85f65f70-b5f4-40b3-bd7a-45f0b4f5995f
CREATED:20260423T080611Z
URL:https://www.weespfoto.nl/agenda/item/372988
NAME:Orgel/pianoconcert weespfoto.nl
X-WR-CALNAME:Orgel/pianoconcert weespfoto.nl
X-ALT-DESC;FMTTYPE=text/html:<a href='https://www.weespfoto.nl/agenda/item//372988'>https://weespfoto.nl/agenda/item//372988</a> || <p>Op donderdag 23 april geeft Christine Kamp een orgel/pianoconcert in de Grote Kerk van Weesp.</p><p>Op het programma staan zowel klassieke werken als werken met een jazzy invloed. Componisten zijn o.a. Sarah Watts, Rosalie Bonighton, J.S. Bach, R. Schumann en L. von Beethoven.</p><p>Entrée is € 15,- incl. drankje</p>
DESCRIPTION:<a href='https://www.weespfoto.nl/agenda/item//372988'>https://www.weespfoto.nl/agenda/item//372988</a> || Op donderdag 23 april geeft Christine Kamp een orgel/pianoconcert in de Grote Kerk van Weesp.Op het programma staan zowel klassieke werken als werken met een jazzy invloed. Componisten zijn o.a. Sarah Watts, Rosalie Bonighton, J.S. Bach, R. Schumann en L. von Beethoven.Entrée is € 15,- incl. drankje
LAST-MODIFIED:20260423T080611Z
LOCATION:Grote Kerk Nieuwstraat 31 Nieuwstraat 31 1380GB Weesp
SEQUENCE:0
STATUS:CONFIRMED
SUMMARY:Orgel/pianoconcert
TRANSP:OPAQUE
END:VEVENT
END:VCALENDAR
