BEGIN:VCALENDAR
PRODID:-//PUBBLE//enter agenda//NL
VERSION:2.0
METHOD:PUBLISH
BEGIN:VEVENT
DTSTART:20260501T073000Z
DTEND:20260531T081800Z
DTSTAMP:20260423T214541Z
UID:5c140ecb-d652-4003-8bfa-75be1c608bf6
CREATED:20260423T214541Z
URL:https://www.weespfoto.nl/agenda/item/373015
NAME:Resilience Tentoonstelling weespfoto.nl
X-WR-CALNAME:Resilience Tentoonstelling weespfoto.nl
X-ALT-DESC;FMTTYPE=text/html:<a href='https://www.weespfoto.nl/agenda/item//373015'>https://weespfoto.nl/agenda/item//373015</a> || <p>In de Nicolaaskerk tonen 4 kunstenaars hun krachtige en persoonlijke werken waarin het thema veerkracht centraal staat. Eric Karel: portret en architectuur; Frank Wagtmans portret; Rawnie Parsons-Lock: natuurlijke ei-tempera schilderijen; Rick Maijer plastic afvalkunstenaar</p>
DESCRIPTION:<a href='https://www.weespfoto.nl/agenda/item//373015'>https://www.weespfoto.nl/agenda/item//373015</a> || In de Nicolaaskerk tonen 4 kunstenaars hun krachtige en persoonlijke werken waarin het thema veerkracht centraal staat. Eric Karel: portret en architectuur; Frank Wagtmans portret; Rawnie Parsons-Lock: natuurlijke ei-tempera schilderijen; Rick Maijer plastic afvalkunstenaar
LAST-MODIFIED:20260423T214541Z
LOCATION:Kunstkerk Muiden Herengracht 83 1398 AD Muiden
SEQUENCE:0
STATUS:CONFIRMED
SUMMARY:Resilience Tentoonstelling
TRANSP:OPAQUE
END:VEVENT
END:VCALENDAR
